BEGIN:VCALENDAR
VERSION:2.0
PRODID:-//Sabre//Sabre VObject 4.5.8//EN
CALSCALE:GREGORIAN
BEGIN:VEVENT
UID:sabre-vobject-1b121ed9-8dbf-457a-99d0-ab73ed4be52d
DTSTAMP:20260424T090017Z
SUMMARY:Customer Appreciation Day Bowling
DESCRIPTION:
X-ALT-DESC:FMTTYPE=text/html:<!DOCTYPE HTML PUBLIC "-//W3C//DTD HTML 3.2//E
 N"><HTML></HTML>
CREATED;TZID=America/New_York:20251110T152124
URL;VALUE=URI:https://bragg.armymwr.com/calendar/event
DTSTART;TZID=America/New_York:20260417T110000
DTEND;TZID=America/New_York:20260417T160000
SEQUENCE:0
END:VEVENT
END:VCALENDAR
