BEGIN:VCALENDAR
VERSION:2.0
PRODID:-//Sabre//Sabre VObject 4.5.8//EN
CALSCALE:GREGORIAN
BEGIN:VEVENT
UID:sabre-vobject-f83ad45f-095d-4f2d-ac1d-b5b5935f7ce8
DTSTAMP:20260424T233208Z
SUMMARY:S.T.E.A.M at Throckmorton Library
DESCRIPTION:Science Technology Engineering Art Math\n
X-ALT-DESC:FMTTYPE=text/html:<!DOCTYPE HTML PUBLIC "-//W3C//DTD HTML 3.2//E
 N"><HTML><p>Science Technology Engineering Art Math</p>\n</HTML>
CREATED;TZID=America/New_York:20251205T122827
URL;VALUE=URI:https://bragg.armymwr.com/calendar/event
DTSTART;TZID=America/New_York:20260121T154500
DTEND;TZID=America/New_York:20260121T164500
SEQUENCE:0
END:VEVENT
END:VCALENDAR
