BEGIN:VCALENDAR
VERSION:2.0
PRODID:-//Sabre//Sabre VObject 4.5.8//EN
CALSCALE:GREGORIAN
BEGIN:VEVENT
UID:sabre-vobject-c96026d6-c1a8-4e63-8915-58289df56f6f
DTSTAMP:20260426T035514Z
SUMMARY:Outdoor Recreation Adventures Hiking Challenge
DESCRIPTION:
X-ALT-DESC:FMTTYPE=text/html:<!DOCTYPE HTML PUBLIC "-//W3C//DTD HTML 3.2//E
 N"><HTML></HTML>
CREATED;TZID=America/New_York:20260305T121000
URL;VALUE=URI:https://bragg.armymwr.com/calendar/event
DTSTART;TZID=America/New_York:20260401T113000
DTEND;TZID=America/New_York:20260831T123000
SEQUENCE:0
END:VEVENT
END:VCALENDAR
