BEGIN:VCALENDAR
VERSION:2.0
PRODID:-//Sabre//Sabre VObject 4.5.8//EN
CALSCALE:GREGORIAN
BEGIN:VEVENT
UID:sabre-vobject-f7cc73a6-2da8-4ad9-9f27-e9d318841267
DTSTAMP:20260420T202058Z
SUMMARY:Group Fitness - Power Yoga
DESCRIPTION:Power Yoga with Ashley\n
X-ALT-DESC:FMTTYPE=text/html:<!DOCTYPE HTML PUBLIC "-//W3C//DTD HTML 3.2//E
 N"><HTML><p>Power Yoga with Ashley</p>\n</HTML>
CREATED;TZID=America/New_York:20260420T144224
URL;VALUE=URI:https://bragg.armymwr.com/calendar/event
DTSTART;TZID=America/New_York:20260427T090000
DTEND;TZID=America/New_York:20260427T100000
SEQUENCE:0
END:VEVENT
END:VCALENDAR
