BEGIN:VCALENDAR
VERSION:2.0
PRODID:-//Sabre//Sabre VObject 4.5.8//EN
CALSCALE:GREGORIAN
BEGIN:VEVENT
UID:sabre-vobject-7f1ecf90-ce6d-48f1-b310-962ca985d5d9
DTSTAMP:20260424T112513Z
SUMMARY:Group Fitness - Power Yoga
DESCRIPTION:Power Yoga with Ashley\n
X-ALT-DESC:FMTTYPE=text/html:<!DOCTYPE HTML PUBLIC "-//W3C//DTD HTML 3.2//E
 N"><HTML><p>Power Yoga with Ashley</p>\n</HTML>
CREATED;TZID=America/New_York:20260420T143801
URL;VALUE=URI:https://bragg.armymwr.com/calendar/event
DTSTART;TZID=America/New_York:20260504T090000
DTEND;TZID=America/New_York:20260504T100000
SEQUENCE:0
END:VEVENT
END:VCALENDAR
