BEGIN:VCALENDAR
VERSION:2.0
PRODID:-//Sabre//Sabre VObject 4.5.8//EN
CALSCALE:GREGORIAN
BEGIN:VEVENT
UID:sabre-vobject-c335df49-e95d-48be-bac7-fb0f6d925748
DTSTAMP:20260424T112513Z
SUMMARY:Group Fitness - Slow Flow Yoga
DESCRIPTION:Slow Flow Yoga with Ashley\n
X-ALT-DESC:FMTTYPE=text/html:<!DOCTYPE HTML PUBLIC "-//W3C//DTD HTML 3.2//E
 N"><HTML><p>Slow Flow Yoga with Ashley</p>\n</HTML>
CREATED;TZID=America/New_York:20260420T145024
URL;VALUE=URI:https://bragg.armymwr.com/calendar/event
DTSTART;TZID=America/New_York:20260506T090000
DTEND;TZID=America/New_York:20260506T100000
SEQUENCE:0
END:VEVENT
END:VCALENDAR
