BEGIN:VCALENDAR
VERSION:2.0
PRODID:-//Sabre//Sabre VObject 4.5.8//EN
CALSCALE:GREGORIAN
BEGIN:VEVENT
UID:sabre-vobject-04495abf-11ed-4890-b22d-ca0a9e567e01
DTSTAMP:20260421T015311Z
SUMMARY:Group Fitness - Restorative Yoga
DESCRIPTION:Restorative Yoga with Ashley\n
X-ALT-DESC:FMTTYPE=text/html:<!DOCTYPE HTML PUBLIC "-//W3C//DTD HTML 3.2//E
 N"><HTML><p>Restorative Yoga with Ashley</p>\n</HTML>
CREATED;TZID=America/New_York:20260420T145356
URL;VALUE=URI:https://bragg.armymwr.com/calendar/event
DTSTART;TZID=America/New_York:20260424T090000
DTEND;TZID=America/New_York:20260424T100000
SEQUENCE:0
END:VEVENT
END:VCALENDAR
