BEGIN:VCALENDAR
VERSION:2.0
PRODID:-//Sabre//Sabre VObject 4.5.8//EN
CALSCALE:GREGORIAN
BEGIN:VEVENT
UID:sabre-vobject-b39476f5-cd5f-4f18-948d-0742ce5fa8a0
DTSTAMP:20260420T225637Z
SUMMARY:Group Fitness - Zumba
DESCRIPTION:Zumba with Gloria\n
X-ALT-DESC:FMTTYPE=text/html:<!DOCTYPE HTML PUBLIC "-//W3C//DTD HTML 3.2//E
 N"><HTML><p>Zumba with Gloria</p>\n</HTML>
CREATED;TZID=America/New_York:20260420T152852
URL;VALUE=URI:https://bragg.armymwr.com/calendar/event
DTSTART;TZID=America/New_York:20260422T173000
DTEND;TZID=America/New_York:20260422T183000
SEQUENCE:0
END:VEVENT
END:VCALENDAR
