BEGIN:VCALENDAR
VERSION:2.0
PRODID:-//Sabre//Sabre VObject 4.5.8//EN
CALSCALE:GREGORIAN
BEGIN:VEVENT
UID:sabre-vobject-bd298d1f-5da3-4f4b-9c46-492e240315f4
DTSTAMP:20260421T083010Z
SUMMARY:Group Fitness - Spin
DESCRIPTION:Spin with Wendi\n
X-ALT-DESC:FMTTYPE=text/html:<!DOCTYPE HTML PUBLIC "-//W3C//DTD HTML 3.2//E
 N"><HTML><p>Spin with Wendi</p>\n</HTML>
CREATED;TZID=America/New_York:20260420T155133
URL;VALUE=URI:https://bragg.armymwr.com/calendar/event
DTSTART;TZID=America/New_York:20260427T183000
DTEND;TZID=America/New_York:20260427T193000
SEQUENCE:0
END:VEVENT
END:VCALENDAR
