BEGIN:VCALENDAR
VERSION:2.0
PRODID:-//Sabre//Sabre VObject 4.5.8//EN
CALSCALE:GREGORIAN
BEGIN:VEVENT
UID:sabre-vobject-4b277e2c-3033-4ddc-8671-f16329f1eee8
DTSTAMP:20260425T042637Z
SUMMARY:Group Fitness - Body Pump
DESCRIPTION:Body Pump with Rachel\n
X-ALT-DESC:FMTTYPE=text/html:<!DOCTYPE HTML PUBLIC "-//W3C//DTD HTML 3.2//E
 N"><HTML><p>Body Pump with Rachel</p>\n</HTML>
CREATED;TZID=America/New_York:20260424T125524
URL;VALUE=URI:https://bragg.armymwr.com/calendar/event
DTSTART;TZID=America/New_York:20260425T093000
DTEND;TZID=America/New_York:20260425T103000
SEQUENCE:0
END:VEVENT
END:VCALENDAR
