BEGIN:VCALENDAR
VERSION:2.0
PRODID:-//Sabre//Sabre VObject 4.5.8//EN
CALSCALE:GREGORIAN
BEGIN:VEVENT
UID:sabre-vobject-c55e795b-4e5d-4c97-817a-ef28249adc7a
DTSTAMP:20260422T142453Z
SUMMARY:Author Talk: A Mother's Time to Heal
DESCRIPTION:In this fiction book\, author Erika T. Moore talks about the Wa
 lker sisters who have spent a decade running from their past\, being separ
 ated by secrets\, lies\, and abuse.\n
X-ALT-DESC:FMTTYPE=text/html:<!DOCTYPE HTML PUBLIC "-//W3C//DTD HTML 3.2//E
 N"><HTML><p>In this fiction book\, author Erika T. Moore talks about the W
 alker sisters who have spent a decade running from their past\, being sepa
 rated by secrets\, lies\, and abuse.</p>\n</HTML>
CREATED;TZID=America/New_York:20180515T140327
URL;VALUE=URI:https://bragg.armymwr.com/calendar/event
DTSTART;TZID=America/New_York:20180621T123000
DTEND;TZID=America/New_York:20180621T133000
SEQUENCE:0
END:VEVENT
END:VCALENDAR
