BEGIN:VCALENDAR
VERSION:2.0
PRODID:-//Sabre//Sabre VObject 4.5.8//EN
CALSCALE:GREGORIAN
BEGIN:VEVENT
UID:sabre-vobject-aea2f218-3a25-44bb-ad97-ed349fbbe177
DTSTAMP:20260420T010635Z
SUMMARY:Indoor Rock Climbing
DESCRIPTION:Join BOSS for an evening of rock climbing!\n
X-ALT-DESC:FMTTYPE=text/html:<!DOCTYPE HTML PUBLIC "-//W3C//DTD HTML 3.2//E
 N"><HTML><p>Join BOSS for an evening of rock climbing!</p>\n</HTML>
CREATED;TZID=America/New_York:20180711T150550
URL;VALUE=URI:https://bragg.armymwr.com/calendar/event
DTSTART;TZID=America/New_York:20180804T140000
DTEND;TZID=America/New_York:20180804T180000
SEQUENCE:0
END:VEVENT
END:VCALENDAR
