BEGIN:VCALENDAR
VERSION:2.0
PRODID:-//Sabre//Sabre VObject 4.5.8//EN
CALSCALE:GREGORIAN
BEGIN:VEVENT
UID:sabre-vobject-d645f066-0c9a-45ef-b20a-7710d81e323b
DTSTAMP:20260422T215430Z
SUMMARY:Author Talk: Grandma has Alzheimer's but It's O.K.
DESCRIPTION:Dr. Marian Brown shares her poignant description of a grandmoth
 er&#39\;s journey into Alzheimer&#39\;s and commitment to family.\n
X-ALT-DESC:FMTTYPE=text/html:<!DOCTYPE HTML PUBLIC "-//W3C//DTD HTML 3.2//E
 N"><HTML><p>Dr. Marian Brown shares her poignant description of a grandmot
 her&#39\;s journey into Alzheimer&#39\;s and commitment to family.</p>\n</
 HTML>
CREATED;TZID=America/New_York:20180124T111416
URL;VALUE=URI:https://bragg.armymwr.com/calendar/event
DTSTART;TZID=America/New_York:20180517T123000
DTEND;TZID=America/New_York:20180517T133000
SEQUENCE:0
END:VEVENT
END:VCALENDAR
