BEGIN:VCALENDAR
VERSION:2.0
PRODID:-//Sabre//Sabre VObject 4.5.8//EN
CALSCALE:GREGORIAN
BEGIN:VEVENT
UID:sabre-vobject-8d0d15de-22b3-4ca5-bf36-77281d00e121
DTSTAMP:20260419T142553Z
SUMMARY:Parent Advisory Social
DESCRIPTION:This event is open to Parents/Guardians of youth grades 6th-12t
 h.\n
X-ALT-DESC:FMTTYPE=text/html:<!DOCTYPE HTML PUBLIC "-//W3C//DTD HTML 3.2//E
 N"><HTML><p>This event is open to Parents/Guardians of youth grades 6th-12
 th.</p>\n</HTML>
CREATED;TZID=America/New_York:20180312T142950
URL;VALUE=URI:https://bragg.armymwr.com/calendar/event
DTSTART;TZID=America/New_York:20180413T180000
DTEND;TZID=America/New_York:20180413T190000
SEQUENCE:0
END:VEVENT
END:VCALENDAR
