BEGIN:VCALENDAR
VERSION:2.0
PRODID:-//Sabre//Sabre VObject 4.5.8//EN
CALSCALE:GREGORIAN
BEGIN:VEVENT
UID:sabre-vobject-665cf7c5-7a06-4a57-9a77-db8a212fe06b
DTSTAMP:20260422T042720Z
SUMMARY:2018 Fort Bragg Golf Membership Drive
DESCRIPTION:Enjoy all the benefits that come with being a member at two qua
 lity golf courses with great greens and rolling fairways!\n
X-ALT-DESC:FMTTYPE=text/html:<!DOCTYPE HTML PUBLIC "-//W3C//DTD HTML 3.2//E
 N"><HTML><p>Enjoy all the benefits that come with being a member at two qu
 ality golf courses with great greens and rolling fairways!</p>\n</HTML>
CREATED;TZID=America/New_York:20180424T162901
URL;VALUE=URI:https://bragg.armymwr.com/calendar/event
DTSTART;TZID=America/New_York:20180501T140000
DTEND;TZID=America/New_York:20180531T150000
SEQUENCE:0
END:VEVENT
END:VCALENDAR
