BEGIN:VCALENDAR
VERSION:2.0
PRODID:-//Sabre//Sabre VObject 4.5.8//EN
CALSCALE:GREGORIAN
BEGIN:VEVENT
UID:sabre-vobject-665fc8ba-aa1f-4076-a325-f7bf355387d7
DTSTAMP:20260423T004516Z
SUMMARY:Photography Workshop
DESCRIPTION:Freelance photographer\, Omar Derby will help you find your pho
 tography style\, build your photography kit\, and show you how to start yo
 ur photography business in this workshop.\n
X-ALT-DESC:FMTTYPE=text/html:<!DOCTYPE HTML PUBLIC "-//W3C//DTD HTML 3.2//E
 N"><HTML><p>Freelance photographer\, Omar Derby will help you find your ph
 otography style\, build your photography kit\, and show you how to start y
 our photography business in this workshop.</p>\n</HTML>
CREATED;TZID=America/New_York:20180427T133322
URL;VALUE=URI:https://bragg.armymwr.com/calendar/event
DTSTART;TZID=America/New_York:20180519T130000
DTEND;TZID=America/New_York:20180519T140000
SEQUENCE:0
END:VEVENT
END:VCALENDAR
