BEGIN:VCALENDAR
VERSION:2.0
PRODID:-//Sabre//Sabre VObject 4.5.8//EN
CALSCALE:GREGORIAN
BEGIN:VEVENT
UID:sabre-vobject-7a86e72c-ad90-4b6a-a6c5-800115f2fca5
DTSTAMP:20260423T082307Z
SUMMARY:Cardio Blast 
DESCRIPTION:Taking it to the streets with a Fitness Party!\n
X-ALT-DESC:FMTTYPE=text/html:<!DOCTYPE HTML PUBLIC "-//W3C//DTD HTML 3.2//E
 N"><HTML><p>Taking it to the streets with a Fitness Party!</p>\n</HTML>
CREATED;TZID=America/New_York:20180516T093500
URL;VALUE=URI:https://bragg.armymwr.com/calendar/event
DTSTART;TZID=America/New_York:20180521T173000
DTEND;TZID=America/New_York:20180521T193000
SEQUENCE:0
END:VEVENT
END:VCALENDAR
