BEGIN:VCALENDAR
VERSION:2.0
PRODID:-//Sabre//Sabre VObject 4.5.8//EN
CALSCALE:GREGORIAN
BEGIN:VEVENT
UID:sabre-vobject-5e11e1f8-cce8-44e7-82ac-108b7af8b924
DTSTAMP:20260421T222249Z
SUMMARY:Christmas In July
DESCRIPTION:Shop early\, shop local.\n
X-ALT-DESC:FMTTYPE=text/html:<!DOCTYPE HTML PUBLIC "-//W3C//DTD HTML 3.2//E
 N"><HTML><p>Shop early\, shop local.</p>\n</HTML>
CREATED;TZID=America/New_York:20180711T132602
URL;VALUE=URI:https://bragg.armymwr.com/calendar/event
DTSTART;TZID=America/New_York:20180714T110000
DTEND;TZID=America/New_York:20180714T160000
SEQUENCE:0
END:VEVENT
END:VCALENDAR
