BEGIN:VCALENDAR
VERSION:2.0
PRODID:-//Sabre//Sabre VObject 4.5.8//EN
CALSCALE:GREGORIAN
BEGIN:VEVENT
UID:sabre-vobject-20490847-b5b8-4d45-85a2-67914cfbef35
DTSTAMP:20260423T051128Z
SUMMARY:Interview Techniques
DESCRIPTION:Chay Youth Activity Center presents a class in Interview Techni
 ques.\n
X-ALT-DESC:FMTTYPE=text/html:<!DOCTYPE HTML PUBLIC "-//W3C//DTD HTML 3.2//E
 N"><HTML><p>Chay Youth Activity Center presents a class in Interview Techn
 iques.</p>\n</HTML>
CREATED;TZID=America/New_York:20180611T131109
URL;VALUE=URI:https://bragg.armymwr.com/calendar/event
DTSTART;TZID=America/New_York:20180629T173000
DTEND;TZID=America/New_York:20180629T183000
SEQUENCE:0
END:VEVENT
END:VCALENDAR
