BEGIN:VCALENDAR
VERSION:2.0
PRODID:-//Sabre//Sabre VObject 4.5.8//EN
CALSCALE:GREGORIAN
BEGIN:VEVENT
UID:sabre-vobject-9c675bda-e71c-4718-82e8-116f3dac3859
DTSTAMP:20260422T202656Z
SUMMARY:Resume Building
DESCRIPTION:Through this activity\, teens will develop their own resume so 
 that they&#39\;ll be ready when that perfect summer or after school job co
 mes their way.\n
X-ALT-DESC:FMTTYPE=text/html:<!DOCTYPE HTML PUBLIC "-//W3C//DTD HTML 3.2//E
 N"><HTML><p>Through this activity\, teens will develop their own resume so
  that they&#39\;ll be ready when that perfect summer or after school job c
 omes their way.</p>\n</HTML>
CREATED;TZID=America/New_York:20180611T144225
URL;VALUE=URI:https://bragg.armymwr.com/calendar/event
DTSTART;TZID=America/New_York:20180622T173000
DTEND;TZID=America/New_York:20180622T183000
SEQUENCE:0
END:VEVENT
END:VCALENDAR
