BEGIN:VCALENDAR
VERSION:2.0
PRODID:-//Sabre//Sabre VObject 4.5.8//EN
CALSCALE:GREGORIAN
BEGIN:VEVENT
UID:sabre-vobject-62228c54-5bca-44e7-95aa-2c86418d2304
DTSTAMP:20260423T051129Z
SUMMARY:World's Largest Swimming Lesson™
DESCRIPTION:We&rsquo\;re making a huge splash to spread the word that Swimm
 ing Lessons Save Lives.&trade\;\n
X-ALT-DESC:FMTTYPE=text/html:<!DOCTYPE HTML PUBLIC "-//W3C//DTD HTML 3.2//E
 N"><HTML><p>We&rsquo\;re making a huge splash to spread the word that Swim
 ming Lessons Save Lives.&trade\;</p>\n</HTML>
CREATED;TZID=America/New_York:20180614T113602
URL;VALUE=URI:https://bragg.armymwr.com/calendar/event
DTSTART;TZID=America/New_York:20180621T130000
DTEND;TZID=America/New_York:20180621T150000
SEQUENCE:0
END:VEVENT
END:VCALENDAR
