BEGIN:VCALENDAR
VERSION:2.0
PRODID:-//Sabre//Sabre VObject 4.5.8//EN
CALSCALE:GREGORIAN
BEGIN:VEVENT
UID:sabre-vobject-d86b9892-aede-4288-b646-c6853ee98d8f
DTSTAMP:20260421T132747Z
SUMMARY:Coping With Stress One Stroke at a Time
DESCRIPTION:An interactive painting workshop\n
X-ALT-DESC:FMTTYPE=text/html:<!DOCTYPE HTML PUBLIC "-//W3C//DTD HTML 3.2//E
 N"><HTML><p>An interactive painting workshop</p>\n</HTML>
CREATED;TZID=America/New_York:20180621T140932
URL;VALUE=URI:https://bragg.armymwr.com/calendar/event
DTSTART;TZID=America/New_York:20180717T090000
DTEND;TZID=America/New_York:20180717T120000
SEQUENCE:0
END:VEVENT
END:VCALENDAR
