BEGIN:VCALENDAR
VERSION:2.0
PRODID:-//Sabre//Sabre VObject 4.5.8//EN
CALSCALE:GREGORIAN
BEGIN:VEVENT
UID:sabre-vobject-abf55bc3-6602-4ee6-8d8f-f2671107b926
DTSTAMP:20260419T115548Z
SUMMARY:Operation Knockout
DESCRIPTION:Pre-fight social and meet and greet with Roy Jones Jr.\n
X-ALT-DESC:FMTTYPE=text/html:<!DOCTYPE HTML PUBLIC "-//W3C//DTD HTML 3.2//E
 N"><HTML><p>Pre-fight social and meet and greet with Roy Jones Jr.</p>\n</
 HTML>
CREATED;TZID=America/New_York:20180803T154736
URL;VALUE=URI:https://bragg.armymwr.com/calendar/event
DTSTART;TZID=America/New_York:20180818T190000
DTEND;TZID=America/New_York:20180818T200000
SEQUENCE:0
END:VEVENT
END:VCALENDAR
