BEGIN:VCALENDAR
VERSION:2.0
PRODID:-//Sabre//Sabre VObject 4.5.8//EN
CALSCALE:GREGORIAN
BEGIN:VEVENT
UID:sabre-vobject-a53ced2e-11c7-4908-8055-ce369cd1641b
DTSTAMP:20260419T121215Z
SUMMARY:Parent Youth Orientation at Chay YAC
DESCRIPTION:Learn more about Chay&#39\;s after school program for all middl
 e school youth seeking after school activities and programs!\n
X-ALT-DESC:FMTTYPE=text/html:<!DOCTYPE HTML PUBLIC "-//W3C//DTD HTML 3.2//E
 N"><HTML><p>Learn more about Chay&#39\;s after school program for all midd
 le school youth seeking after school activities and programs!</p>\n</HTML>
CREATED;TZID=America/New_York:20180731T135045
URL;VALUE=URI:https://bragg.armymwr.com/calendar/event
DTSTART;TZID=America/New_York:20180814T180000
DTEND;TZID=America/New_York:20180814T190000
SEQUENCE:0
END:VEVENT
BEGIN:VEVENT
UID:sabre-vobject-49c34370-d85e-4bc1-a374-7fe4dfad2953
DTSTAMP:20260419T121215Z
SUMMARY:Parent Youth Orientation at Chay YAC
DESCRIPTION:Learn more about Chay&#39\;s after school program for all middl
 e school youth seeking after school activities and programs!\n
X-ALT-DESC:FMTTYPE=text/html:<!DOCTYPE HTML PUBLIC "-//W3C//DTD HTML 3.2//E
 N"><HTML><p>Learn more about Chay&#39\;s after school program for all midd
 le school youth seeking after school activities and programs!</p>\n</HTML>
CREATED;TZID=America/New_York:20180731T135045
URL;VALUE=URI:https://bragg.armymwr.com/calendar/event
DTSTART;TZID=America/New_York:20180816T180000
DTEND;TZID=America/New_York:20180816T190000
SEQUENCE:1
END:VEVENT
END:VCALENDAR
