BEGIN:VCALENDAR
VERSION:2.0
PRODID:-//Sabre//Sabre VObject 4.5.8//EN
CALSCALE:GREGORIAN
BEGIN:VEVENT
UID:sabre-vobject-746dff5a-dde8-4c53-997c-b6e378358dd8
DTSTAMP:20260423T212649Z
SUMMARY:Holiday Crafts
DESCRIPTION:
X-ALT-DESC:FMTTYPE=text/html:<!DOCTYPE HTML PUBLIC "-//W3C//DTD HTML 3.2//E
 N"><HTML></HTML>
CREATED;TZID=America/New_York:20220203T165930
URL;VALUE=URI:https://bragg.armymwr.com/calendar/event
DTSTART;TZID=America/New_York:20211015T130000
DTEND;TZID=America/New_York:20211015T140000
SEQUENCE:0
END:VEVENT
BEGIN:VEVENT
UID:sabre-vobject-cee29454-dc75-494d-b9bd-41652395c13f
DTSTAMP:20260423T212649Z
SUMMARY:Holiday Crafts
DESCRIPTION:
X-ALT-DESC:FMTTYPE=text/html:<!DOCTYPE HTML PUBLIC "-//W3C//DTD HTML 3.2//E
 N"><HTML></HTML>
CREATED;TZID=America/New_York:20220203T165930
URL;VALUE=URI:https://bragg.armymwr.com/calendar/event
DTSTART;TZID=America/New_York:20211119T130000
DTEND;TZID=America/New_York:20211119T140000
SEQUENCE:1
END:VEVENT
BEGIN:VEVENT
UID:sabre-vobject-5838838b-9808-4372-803a-2de7ae813f35
DTSTAMP:20260423T212649Z
SUMMARY:Holiday Crafts
DESCRIPTION:
X-ALT-DESC:FMTTYPE=text/html:<!DOCTYPE HTML PUBLIC "-//W3C//DTD HTML 3.2//E
 N"><HTML></HTML>
CREATED;TZID=America/New_York:20220203T165930
URL;VALUE=URI:https://bragg.armymwr.com/calendar/event
DTSTART;TZID=America/New_York:20211213T130000
DTEND;TZID=America/New_York:20211213T140000
SEQUENCE:2
END:VEVENT
BEGIN:VEVENT
UID:sabre-vobject-e15633f1-67d1-466f-9cc6-54adcfe3043c
DTSTAMP:20260423T212649Z
SUMMARY:Holiday Crafts
DESCRIPTION:
X-ALT-DESC:FMTTYPE=text/html:<!DOCTYPE HTML PUBLIC "-//W3C//DTD HTML 3.2//E
 N"><HTML></HTML>
CREATED;TZID=America/New_York:20220203T165930
URL;VALUE=URI:https://bragg.armymwr.com/calendar/event
DTSTART;TZID=America/New_York:20220211T130000
DTEND;TZID=America/New_York:20220211T140000
SEQUENCE:3
END:VEVENT
END:VCALENDAR
