BEGIN:VCALENDAR
VERSION:2.0
PRODID:-//Sabre//Sabre VObject 4.5.8//EN
CALSCALE:GREGORIAN
BEGIN:VEVENT
UID:sabre-vobject-d79cf991-a8d0-46d7-aa85-d01589d990c0
DTSTAMP:20260422T042732Z
SUMMARY:A Night of Bowling with EFMP
DESCRIPTION:
X-ALT-DESC:FMTTYPE=text/html:<!DOCTYPE HTML PUBLIC "-//W3C//DTD HTML 3.2//E
 N"><HTML></HTML>
CREATED;TZID=America/New_York:20220106T130641
URL;VALUE=URI:https://bragg.armymwr.com/calendar/event
DTSTART;TZID=America/New_York:20220120T173000
DTEND;TZID=America/New_York:20220120T193000
SEQUENCE:0
END:VEVENT
END:VCALENDAR
