BEGIN:VCALENDAR
VERSION:2.0
PRODID:-//Sabre//Sabre VObject 4.5.8//EN
CALSCALE:GREGORIAN
BEGIN:VEVENT
UID:sabre-vobject-fcb9ea82-4766-4ee1-8a7b-61b791f7ee50
DTSTAMP:20260420T200419Z
SUMMARY:Single and Dating
DESCRIPTION:Stop revolving and start evolving in relationships!\n
X-ALT-DESC:FMTTYPE=text/html:<!DOCTYPE HTML PUBLIC "-//W3C//DTD HTML 3.2//E
 N"><HTML><p>Stop revolving and start evolving in relationships!</p>\n</HTM
 L>
CREATED;TZID=America/New_York:20170913T134443
URL;VALUE=URI:https://bragg.armymwr.com/calendar/event
DTSTART;TZID=America/New_York:20170615T090000
DTEND;TZID=America/New_York:20170615T120000
SEQUENCE:0
END:VEVENT
END:VCALENDAR
