BEGIN:VCALENDAR
VERSION:2.0
PRODID:-//Sabre//Sabre VObject 4.5.8//EN
CALSCALE:GREGORIAN
BEGIN:VEVENT
UID:sabre-vobject-937771f4-3031-4e75-98bb-d7edc6c517c1
DTSTAMP:20260423T051125Z
SUMMARY:Skate Paddy's Day
DESCRIPTION:
X-ALT-DESC:FMTTYPE=text/html:<!DOCTYPE HTML PUBLIC "-//W3C//DTD HTML 3.2//E
 N"><HTML></HTML>
CREATED;TZID=America/New_York:20241231T111338
URL;VALUE=URI:https://bragg.armymwr.com/calendar/event
DTSTART;TZID=America/New_York:20250315T180000
DTEND;TZID=America/New_York:20250315T213000
SEQUENCE:0
END:VEVENT
END:VCALENDAR
