BEGIN:VCALENDAR
VERSION:2.0
PRODID:-//Sabre//Sabre VObject 4.5.8//EN
CALSCALE:GREGORIAN
BEGIN:VEVENT
UID:sabre-vobject-edde0c38-e782-4369-a145-3cf805e6feaa
DTSTAMP:20260423T051125Z
SUMMARY:Kindergarten Transition Resource Fair
DESCRIPTION:
X-ALT-DESC:FMTTYPE=text/html:<!DOCTYPE HTML PUBLIC "-//W3C//DTD HTML 3.2//E
 N"><HTML></HTML>
CREATED;TZID=America/New_York:20250218T132919
URL;VALUE=URI:https://bragg.armymwr.com/calendar/event
DTSTART;TZID=America/New_York:20240312T120000
DTEND;TZID=America/New_York:20240312T160000
SEQUENCE:0
END:VEVENT
BEGIN:VEVENT
UID:sabre-vobject-2e122209-ec86-46a2-b031-a44ee813ce60
DTSTAMP:20260423T051125Z
SUMMARY:Kindergarten Transition Resource Fair
DESCRIPTION:
X-ALT-DESC:FMTTYPE=text/html:<!DOCTYPE HTML PUBLIC "-//W3C//DTD HTML 3.2//E
 N"><HTML></HTML>
CREATED;TZID=America/New_York:20250218T132919
URL;VALUE=URI:https://bragg.armymwr.com/calendar/event
DTSTART;TZID=America/New_York:20250312T110000
DTEND;TZID=America/New_York:20250312T133000
SEQUENCE:1
END:VEVENT
END:VCALENDAR
