BEGIN:VCALENDAR
VERSION:2.0
PRODID:-//Sabre//Sabre VObject 4.5.8//EN
CALSCALE:GREGORIAN
BEGIN:VEVENT
UID:sabre-vobject-2b8c5b2d-e658-40ef-91dc-6749e13b6f5d
DTSTAMP:20260419T115545Z
SUMMARY:Dad Talk: An Open Forum
DESCRIPTION:
X-ALT-DESC:FMTTYPE=text/html:<!DOCTYPE HTML PUBLIC "-//W3C//DTD HTML 3.2//E
 N"><HTML></HTML>
CREATED;TZID=America/New_York:20240710T150011
URL;VALUE=URI:https://bragg.armymwr.com/calendar/event
DTSTART;TZID=America/New_York:20240724T140000
DTEND;TZID=America/New_York:20240724T160000
SEQUENCE:0
END:VEVENT
BEGIN:VEVENT
UID:sabre-vobject-35ed1e10-0f62-4745-be4b-5dce760e19a3
DTSTAMP:20260419T115545Z
SUMMARY:Dad Talk: An Open Forum
DESCRIPTION:
X-ALT-DESC:FMTTYPE=text/html:<!DOCTYPE HTML PUBLIC "-//W3C//DTD HTML 3.2//E
 N"><HTML></HTML>
CREATED;TZID=America/New_York:20240710T150011
URL;VALUE=URI:https://bragg.armymwr.com/calendar/event
DTSTART;TZID=America/New_York:20240828T140000
DTEND;TZID=America/New_York:20240828T160000
SEQUENCE:1
END:VEVENT
BEGIN:VEVENT
UID:sabre-vobject-4b500bdc-935e-4a19-8829-d5fb86a9dfc2
DTSTAMP:20260419T115545Z
SUMMARY:Dad Talk: An Open Forum
DESCRIPTION:
X-ALT-DESC:FMTTYPE=text/html:<!DOCTYPE HTML PUBLIC "-//W3C//DTD HTML 3.2//E
 N"><HTML></HTML>
CREATED;TZID=America/New_York:20240710T150011
URL;VALUE=URI:https://bragg.armymwr.com/calendar/event
DTSTART;TZID=America/New_York:20240925T140000
DTEND;TZID=America/New_York:20240925T160000
SEQUENCE:2
END:VEVENT
BEGIN:VEVENT
UID:sabre-vobject-17c441da-6662-440e-ab7e-1abbfc2b371d
DTSTAMP:20260419T115545Z
SUMMARY:Dad Talk: An Open Forum
DESCRIPTION:
X-ALT-DESC:FMTTYPE=text/html:<!DOCTYPE HTML PUBLIC "-//W3C//DTD HTML 3.2//E
 N"><HTML></HTML>
CREATED;TZID=America/New_York:20240710T150011
URL;VALUE=URI:https://bragg.armymwr.com/calendar/event
DTSTART;TZID=America/New_York:20241029T140000
DTEND;TZID=America/New_York:20241029T160000
SEQUENCE:3
END:VEVENT
BEGIN:VEVENT
UID:sabre-vobject-87ea2772-45fa-4488-9691-e6b7fdccad82
DTSTAMP:20260419T115545Z
SUMMARY:Dad Talk: An Open Forum
DESCRIPTION:
X-ALT-DESC:FMTTYPE=text/html:<!DOCTYPE HTML PUBLIC "-//W3C//DTD HTML 3.2//E
 N"><HTML></HTML>
CREATED;TZID=America/New_York:20240710T150011
URL;VALUE=URI:https://bragg.armymwr.com/calendar/event
DTSTART;TZID=America/New_York:20241121T140000
DTEND;TZID=America/New_York:20241121T160000
SEQUENCE:4
END:VEVENT
BEGIN:VEVENT
UID:sabre-vobject-cc1652f5-2d8b-4a4a-8210-5068c7572e62
DTSTAMP:20260419T115545Z
SUMMARY:Dad Talk: An Open Forum
DESCRIPTION:
X-ALT-DESC:FMTTYPE=text/html:<!DOCTYPE HTML PUBLIC "-//W3C//DTD HTML 3.2//E
 N"><HTML></HTML>
CREATED;TZID=America/New_York:20240710T150011
URL;VALUE=URI:https://bragg.armymwr.com/calendar/event
DTSTART;TZID=America/New_York:20241218T140000
DTEND;TZID=America/New_York:20241218T160000
SEQUENCE:5
END:VEVENT
END:VCALENDAR
