BEGIN:VCALENDAR
VERSION:2.0
PRODID:-//Sabre//Sabre VObject 4.5.8//EN
CALSCALE:GREGORIAN
BEGIN:VEVENT
UID:sabre-vobject-eadc0ed6-ed79-46f0-8ed2-6db679b6b4d0
DTSTAMP:20260422T111147Z
SUMMARY:Wilson Fitting Event
DESCRIPTION:
X-ALT-DESC:FMTTYPE=text/html:<!DOCTYPE HTML PUBLIC "-//W3C//DTD HTML 3.2//E
 N"><HTML></HTML>
CREATED;TZID=America/New_York:20250226T142823
URL;VALUE=URI:https://bragg.armymwr.com/calendar/event
DTSTART;TZID=America/New_York:20250313T110000
DTEND;TZID=America/New_York:20250313T150000
SEQUENCE:0
END:VEVENT
END:VCALENDAR
