BEGIN:VCALENDAR
VERSION:2.0
PRODID:-//Sabre//Sabre VObject 4.5.8//EN
CALSCALE:GREGORIAN
BEGIN:VEVENT
UID:sabre-vobject-9dbed554-7593-4708-835c-cbddb8505a7e
DTSTAMP:20260421T205150Z
SUMMARY:TaylorMade Fitting Event
DESCRIPTION:
X-ALT-DESC:FMTTYPE=text/html:<!DOCTYPE HTML PUBLIC "-//W3C//DTD HTML 3.2//E
 N"><HTML></HTML>
CREATED;TZID=America/New_York:20250320T120412
URL;VALUE=URI:https://bragg.armymwr.com/calendar/event
DTSTART;TZID=America/New_York:20250417T110000
DTEND;TZID=America/New_York:20250417T150000
SEQUENCE:0
END:VEVENT
END:VCALENDAR
