BEGIN:VCALENDAR
VERSION:2.0
PRODID:-//Sabre//Sabre VObject 4.5.8//EN
CALSCALE:GREGORIAN
BEGIN:VEVENT
UID:sabre-vobject-e244d8c9-541b-4c99-9eb5-85bf5da5a713
DTSTAMP:20260421T222250Z
SUMMARY:Egg-Cellent Workout
DESCRIPTION:
X-ALT-DESC:FMTTYPE=text/html:<!DOCTYPE HTML PUBLIC "-//W3C//DTD HTML 3.2//E
 N"><HTML></HTML>
CREATED;TZID=America/New_York:20250403T105405
URL;VALUE=URI:https://bragg.armymwr.com/calendar/event
DTSTART;TZID=America/New_York:20250416T090000
DTEND;TZID=America/New_York:20250416T110000
SEQUENCE:0
END:VEVENT
END:VCALENDAR
